BEGIN:VCALENDAR
VERSION:2.0
PRODID:-//ChamberMaster//Event Calendar 2.0//EN
METHOD:PUBLISH
X-PUBLISHED-TTL:P3D
REFRESH-INTERVAL:P3D
CALSCALE:GREGORIAN
BEGIN:VEVENT
DTSTART:20220804T224500Z
DTEND:20220805T003000Z
X-MICROSOFT-CDO-ALLDAYEVENT:FALSE
SUMMARY:WooSox Youth Night: BCBS Chamber Challenge
DESCRIPTION:SEASON TICKET HOLDER DONATION PAGE\n\n\n\nBlue Cross Blue Shield of MA is partnering with the Worcester Regional Chamber of Commerce to challenge local businesses with season tickets to the WooSox to DONATE their seats for the August 4 game. Donated tickets will go to Worcester youth participating in the YouthWorks Program\, which is a summer employment program for income-eligible youth--often the "first job" experience for the participants. We want to give these youth a day to remember at Polar Park!\n\n\n\nRegister your company name and the number of donated seats for the  August 4 game with the Chamber by clicking REGISTER to the right on this page.\n\n\n\n(IF YOU ARE YOUTH TRYING TO REGISTER FOR TICKETS\, USE THIS SEPARATE LINK: tbd) \n\n\n\nBCBS will give each youth with a donated ticket a free hat\, hotdog and soda (value added to the ticket which they can use at concessions). The WooSox will announce a welcome to Worcester Youthworks\, made possible by the area businesses\, the Chamber and BCBS. The Chamber will publish the list of members who donate in our August enews.\n\n\n\nDeadline to donate seats: Friday\, July 22.
X-ALT-DESC;FMTTYPE=text/html:<p class="_04xlpA direction-ltr align-start para-style-subtitle" style="line-height: 1.45\; letter-spacing: 0.02em\; font-family: " yacgeuaxojg=""><span style="letter-spacing: 0.26px\;"><strong><span style="color:#FF0000\;">SEASON TICKET HOLDER&nbsp\;DONATION PAGE</span></strong><br />\n<br />\nBlue Cross Blue Shield of MA is partnering with the Worcester Regional Chamber of Commerce to challenge local businesses with season tickets to the WooSox to DONATE their seats for the August 4&nbsp\;game. Donated tickets will go to Worcester youth participating in the YouthWorks Program\, which is a summer employment program for income-eligible youth--often the &quot\;first job&quot\; experience for the participants. We want to give these youth a day to remember at Polar Park!</span><br style="letter-spacing: 0.26px\;" />\n<br style="letter-spacing: 0.26px\;" />\n<span class="JsGRdQ">Register your company name and the number of donated seats for the &nbsp\;August 4&nbsp\;game with the Chamber by clicking REGISTER to the right on this page.<br />\n<br />\n<span style="color:#B22222\;"><strong>(IF YOU ARE YOUTH TRYING TO REGISTER FOR TICKETS\, USE THIS SEPARATE LINK:</strong></span>&nbsp\;</span>tbd)&nbsp\;<br />\n<br />\n<span class="JsGRdQ">BCBS will give each youth with a donated ticket a free hat\, hotdog and soda (value added to the ticket which they can use at concessions). The WooSox will announce a welcome to Worcester Youthworks\, made possible by the area businesses\, the Chamber and BCBS. The Chamber will publish the list of members who donate in our August enews.</span><br />\n<br />\nDeadline to donate seats: Friday\, July 22.</p>\n
LOCATION:
UID:e.2083.13699
SEQUENCE:3
DTSTAMP:20260421T173359Z
URL:https://business.cmschamber.org/events/details/woosox-youth-night-bcbs-chamber-challenge-13699
END:VEVENT

END:VCALENDAR
