BEGIN:VCALENDAR
VERSION:2.0
PRODID:-//ChamberMaster//Event Calendar 2.0//EN
METHOD:PUBLISH
X-PUBLISHED-TTL:P3D
REFRESH-INTERVAL:P3D
CALSCALE:GREGORIAN
BEGIN:VEVENT
DTSTART:20200806T140000Z
DTEND:20200806T150000Z
X-MICROSOFT-CDO-ALLDAYEVENT:FALSE
SUMMARY:Worcester Chamber Informational Session (Zoom)
DESCRIPTION:CHAMBER INFORMATIONAL SESSION\n\n\nJoin us for an informative webinar\, meet the Chamber staff\, and ask questions.\n\n\n\nYou'll hear about:\n\n  The Chamber's programs and services\n\n  Public policy and legislative issues and what the Chamber is doing on your behalf\n\n  Examples of how we have helped individual businesses\n\n  Business resources\n\n\n\nKnow a business that could benefit from membership? Bring them along!\n\nNot a member? Learn what joining can do for your business.\n\n\n\nCan't wait to join\, or can't make it to the event? Click here for information.\n\n\n\nExplore the different membership levels here.
X-ALT-DESC;FMTTYPE=text/html:<div><span style="color:#336699\;"><strong><span style="font-size: 14px\;"><span new="" style="font-family: " times="">CHAMBER INFORMATIONAL&nbsp\;SESSION</span></span></strong></span></div>\n<br />\n<span style="font-size: 14px\;"><span new="" style="font-family: " times="">Join us for an informative webinar\, meet the Chamber staff\,&nbsp\;and ask questions.<br />\n<br />\nYou&rsquo\;ll hear about:<br />\n&bull\; The Chamber&rsquo\;s programs&nbsp\;and services<br />\n&bull\; Public policy and legislative&nbsp\;issues and what the Chamber&nbsp\;is doing on your behalf<br />\n&bull\; Examples of how we have helped individual businesses<br />\n&bull\; Business resources<br />\n<br />\n<span style="line-height: 20.8px\;">Know</span><span style="line-height: 20.8px\;">&nbsp\;a business that could benefit from&nbsp\;</span><span style="line-height: 20.8px\;">membership? Bring them along!</span><br style="line-height: 20.8px\;" />\n<span style="line-height: 20.8px\;">Not</span><span style="line-height: 20.8px\;">&nbsp\;a member? Learn what joining can&nbsp\;</span><span style="line-height: 20.8px\;">do for your business.<br />\n<br />\nCan&#39\;t wait to join\, or can&#39\;t make it to the event? <a href="https://www.worcesterchamber.org/membership/top-10-reasons-join/">Click here for information.</a><br />\n<br />\nExplore the different <a href="https://www.worcesterchamber.org/membership/info/">membership levels here.</a></span></span></span>
LOCATION:Zoom Meeting
UID:e.2083.12194
SEQUENCE:3
DTSTAMP:20260423T053047Z
URL:https://business.cmschamber.org/events/details/worcester-chamber-informational-session-zoom-12194
END:VEVENT

END:VCALENDAR
