BEGIN:VCALENDAR
VERSION:2.0
PRODID:-//ChamberMaster//Event Calendar 2.0//EN
METHOD:PUBLISH
X-PUBLISHED-TTL:P3D
REFRESH-INTERVAL:P3D
CALSCALE:GREGORIAN
BEGIN:VEVENT
DTSTART:20240303T000500Z
DTEND:20240303T023000Z
X-MICROSOFT-CDO-ALLDAYEVENT:FALSE
SUMMARY:Worcester Chamber Member Appreciation Night at the Railers!
DESCRIPTION:MEMBERS ONLY\, Come join the Chamber as we cheer on the Worcester Railers!\n\n\nThe Chamber is offering tickets to our members\, at no cost\, for a fun family night out on Saturday\, March 2 at the Railers hockey game at the DCU Center\; on a first come\, first serve basis. \n\n \n\nPlease claim your tickets at no cost to you through the link today! Limit of 4 tickets per registration. First come-first-served.\n\n\n\nLINK TO RESERVE TICKETS\n\nPROMO CODE   WRCCSPECIAL\n **Please note that these seats are scattered throughout the rink\, if a company/family/group want to be seated together\, they will need to claim their tickets all at once through the link\, separate tickets claimed cannot be guaranteed to be seated together/near each other. **\n\n\n\nFee for tickets will disappear when you hit checkout\n\n\n\nTickets will be sent right away electronically \n\n \nDoors open at 6pm. See you when the puck drops at 7:05pm!!
X-ALT-DESC;FMTTYPE=text/html:<span style="font-family:arial\;"><span style="font-size:14px\;">MEMBERS ONLY\, Come join the Chamber as we cheer on the Worcester Railers!</span></span>\n<div style="color: rgb(54\, 73\, 95)\; font-family: Arial\, Verdana\, Helvetica\, sans-serif\; font-size: 14px\; white-space: pre-wrap\;"><br />\n<span style="color: rgb(51\, 51\, 51)\;">The Chamber is offering tickets to our members\, at no cost\, for a fun family night out on&nbsp\;Saturday\, March 2 at the&nbsp\;Railers hockey game at the&nbsp\;DCU Center\;&nbsp\;on a&nbsp\;first come\, first serve basis.&nbsp\;</span></div>\n\n<div style="color: rgb(54\, 73\, 95)\; font-family: Arial\, Verdana\, Helvetica\, sans-serif\; font-size: 14px\; white-space: pre-wrap\;">&nbsp\;</div>\n\n<div style="font-family: Arial\, Verdana\, Helvetica\, sans-serif\; font-size: 14px\; white-space: pre-wrap\;"><span style="color: rgb(51\, 51\, 51)\;">Please claim your tickets at no cost to you through the link today!&nbsp\;</span><span style="color: rgb(54\, 73\, 95)\; font-family: Arial\, Verdana\, Helvetica\, sans-serif\; font-size: 14px\; white-space-collapse: preserve\;">Limit of 4 tickets per registration. <b>First come-first-served.</b></span><br style="color: rgb(54\, 73\, 95)\; font-family: Arial\, Verdana\, Helvetica\, sans-serif\; font-size: 14px\; white-space-collapse: preserve\;" />\n<br style="color: rgb(54\, 73\, 95)\; font-family: Arial\, Verdana\, Helvetica\, sans-serif\; font-size: 14px\; white-space-collapse: preserve\;" />\n<a href="https://offer.fevo.com/worcester-railers-vs-trois-rivieres-lions-cohlzx5-92036a5"><font color="#b22222"><b>LINK TO RESERVE TICKETS</b></font></a>\n\n<p class="xxmsonormal" style="color: rgb(54\, 73\, 95)\;"><strong><span style="color:black\;background:yellow">PROMO CODE &ndash\; WRCCSPECIAL</span></strong></p>\n<font color="#36495f"> </font><span style="color: rgb(54\, 73\, 95)\; font-family: arial\; font-size: 14px\;"><span style="font-size:14px\;">**Please note that these seats are scattered throughout the rink\, if a company/family/group want to be seated together\, they will need to claim their tickets all at once through the link\, separate&nbsp\;tickets claimed cannot be guaranteed&nbsp\;to be seated together/near each other.&nbsp\;**</span></span></div>\n\n<div style="color: rgb(54\, 73\, 95)\; font-family: Arial\, Verdana\, Helvetica\, sans-serif\; font-size: 14px\; white-space: pre-wrap\;"><br />\nFee for tickets will disappear&nbsp\;when you hit checkout<br />\n<br />\n<span style="font-size:18px\;"><span style="font-family:calibri\,sans-serif\;">Tickets will be sent right away electronically&nbsp\;</span></span></div>\n\n<div style="color: rgb(54\, 73\, 95)\; font-family: Arial\, Verdana\, Helvetica\, sans-serif\; font-size: 14px\; white-space: pre-wrap\;">&nbsp\;</div>\n<span style="color: rgb(51\, 51\, 51)\; font-family: arial\; font-size: 14px\; background-color: rgb(255\, 255\, 255)\;">Doors open at 6pm. See you when the puck drops at 7:05pm!!</span><br />\n<br />\n<br />\n&nbsp\;
LOCATION:DCU Center 50 Foster Street Worcester\, MA 01608
UID:e.2083.16707
SEQUENCE:3
DTSTAMP:20260420T085637Z
URL:https://business.cmschamber.org/events/details/worcester-chamber-member-appreciation-night-at-the-railers-16707
END:VEVENT

END:VCALENDAR
