BEGIN:VCALENDAR
VERSION:2.0
PRODID:-//ChamberMaster//Event Calendar 2.0//EN
METHOD:PUBLISH
X-PUBLISHED-TTL:P3D
REFRESH-INTERVAL:P3D
CALSCALE:GREGORIAN
BEGIN:VEVENT
DTSTART:20211207T150000Z
DTEND:20220331T200000Z
X-MICROSOFT-CDO-ALLDAYEVENT:FALSE
SUMMARY:Worcester Historical Museum - Landmark Exhibit - PRETTY POWERFUL: 100 Years of Voting & Style - Exhibit Open Through March 2022
DESCRIPTION:Worcester Historical Museum's landmark exhibit - PRETTY POWERFUL: 100 Years of Voting & Style commemorates the 100th anniversary of women's right to vote through fashion and the changing roles of women. Opening and Sneak Preview dates coincide with the 171st anniversary of the First National Woman's Rights Convention in Worcester.\n\nThis exhibit will continue through to March 2022. \n\n PRETTY POWERFUL will share stories of local activism\, empowerment\, diversity\, inclusion\, belonging\, and the changing roles of women over the past century through 32 garments and additional accessories. We are proud to amplify all voices that contribute to the fabric and storytelling of Worcester and look forward to welcoming visitors to come together safely to share stories and feel included in the PRETTY POWERFUL story. Come explore the lives and legacies of women who have shaped and continue to shape the Worcester experience - history\, social fabric\, and culture.\n\n \n\nAdmission: $5\; Seniors over 62/Students: $4\; Guest under 18 and Museum members FREE
X-ALT-DESC;FMTTYPE=text/html:<p>Worcester Historical Museum&rsquo\;s landmark exhibit - PRETTY POWERFUL: 100 Years of Voting &amp\; Style commemorates the 100th anniversary of women&rsquo\;s right to vote through fashion and the changing roles of women. Opening and Sneak Preview dates coincide with the 171st anniversary of the First National Woman&rsquo\;s Rights Convention in Worcester.</p>\n\n<p style="text-align:center"><strong>This exhibit will continue through to March 2022.&nbsp\;</strong></p>\n\n<p>&nbsp\;PRETTY POWERFUL will share stories of local activism\, empowerment\, diversity\, inclusion\, belonging\, and the changing roles of women over the past century through 32 garments and additional accessories. We are proud to amplify all voices that contribute to the fabric and storytelling of Worcester and look forward to welcoming visitors to come together safely to share stories and feel included in the PRETTY POWERFUL story. Come explore the lives and legacies of women who have shaped and continue to shape the Worcester experience - history\, social fabric\, and culture.<br />\n&nbsp\;<br />\nAdmission: $5\; Seniors over 62/Students: $4\; Guest under 18 and Museum members FREE</p>\n
LOCATION:Worcester Historical Museum 30 Elm Street\, Worcester
UID:e.2083.13588
SEQUENCE:3
DTSTAMP:20260422T010001Z
URL:https://business.cmschamber.org/events/details/worcester-historical-museum-landmark-exhibit-pretty-powerful-100-years-of-voting-style-sneak-peak-oct-21-13588
END:VEVENT

END:VCALENDAR
