BEGIN:VCALENDAR
VERSION:2.0
PRODID:-//ChamberMaster//Event Calendar 2.0//EN
METHOD:PUBLISH
X-PUBLISHED-TTL:P3D
REFRESH-INTERVAL:P3D
CALSCALE:GREGORIAN
BEGIN:VEVENT
DTSTART:20220915T220000Z
DTEND:20220915T233000Z
X-MICROSOFT-CDO-ALLDAYEVENT:FALSE
SUMMARY:Worcester Welcomes Celebrity Cruises
DESCRIPTION:Come Join Us and Discover the Celebrity Difference. New Luxury is our simplified approach to travel\, emphasizing culinary exploration\, cultural discovery and elevated design - concepts that allow you to become more open\, more curious and more fulfilled by your precious vacation days. The Retreat\, a place so exclusive it has no address.\n\nSpace is Limited. Contact us today 774-261-8160 or tgoulet@cruiseplanners.com\n\nDoors open at 6:00 PM. Presentation starts promptly at 6:30 pm
X-ALT-DESC;FMTTYPE=text/html:<p>Come Join Us and Discover the Celebrity Difference. New Luxury is our simplified approach to travel\, emphasizing culinary exploration\, cultural discovery and elevated design - concepts that allow you to become more open\, more curious and more fulfilled by your precious vacation days. The Retreat\, a place so exclusive it has no address.</p>\n\n<p>Space is Limited. Contact us today 774-261-8160 or tgoulet@cruiseplanners.com</p>\n\n<p>Doors open at 6:00 PM. Presentation starts promptly at 6:30 pm</p>\n
LOCATION:Hilton Garden Inn Worcester 35 Major Taylor Boulevard Worcester\, MA 01608
UID:e.2083.14279
SEQUENCE:3
DTSTAMP:20260421T155011Z
URL:https://business.cmschamber.org/events/details/worcester-welcomes-celebrity-cruises-14279
END:VEVENT

END:VCALENDAR
