BEGIN:VCALENDAR
VERSION:2.0
PRODID:-//ChamberMaster//Event Calendar 2.0//EN
METHOD:PUBLISH
X-PUBLISHED-TTL:P3D
REFRESH-INTERVAL:P3D
CALSCALE:GREGORIAN
BEGIN:VEVENT
DTSTART:20220914T220000Z
DTEND:20220914T233000Z
X-MICROSOFT-CDO-ALLDAYEVENT:FALSE
SUMMARY:Worcester Welcomes Viking Cruises!!
DESCRIPTION:Join Tom & Ted for an evening of learning about Viking River\, Ocean & Expedition cruising!\n\nViking offers enriching river\, ocean and expedition cruise experiences on board elegant\, state-of-the art ships. With Viking\, guests will journey with like-minded travelers on The Thinking Person's Cruise\, designed to help them explore their destination through enlightening shore excursions\, informative lectures\, engaging performances and regional cuisine.\n\nDiscover for yourself why Viking truly is The World's Leading River Cruise Line.\n\nSpace is Limited. Contact us today to RSVP 774-261-8160 or tgoulet@cruiseplanners.com.\n\nDoors open at 6:00 PM. Presentation starts promptly at 6:30 pm.
X-ALT-DESC;FMTTYPE=text/html:<p>Join Tom &amp\; Ted for an evening of learning about Viking River\, Ocean &amp\; Expedition cruising!</p>\n\n<p>Viking offers enriching river\, ocean and expedition cruise experiences on board elegant\, state-of-the art ships. With Viking\, guests will journey with like-minded travelers on The Thinking Person&#39\;s Cruise\, designed to help them explore their destination through enlightening shore excursions\, informative lectures\, engaging performances and regional cuisine.</p>\n\n<p>Discover for yourself why Viking truly is The World&#39\;s Leading River Cruise Line.</p>\n\n<p>Space is Limited. Contact us today to RSVP 774-261-8160 or tgoulet@cruiseplanners.com.</p>\n\n<p>Doors open at 6:00 PM. Presentation starts promptly at 6:30 pm.</p>\n
LOCATION:Hilton Garden Inn Worcester 35 Major Taylor Boulevard Worcester\, MA 01608
UID:e.2083.14078
SEQUENCE:3
DTSTAMP:20260421T171440Z
URL:https://business.cmschamber.org/events/details/worcester-welcomes-viking-cruises-14078
END:VEVENT

END:VCALENDAR
