BEGIN:VCALENDAR
VERSION:2.0
PRODID:-//ChamberMaster//Event Calendar 2.0//EN
METHOD:PUBLISH
X-PUBLISHED-TTL:P3D
REFRESH-INTERVAL:P3D
CALSCALE:GREGORIAN
BEGIN:VEVENT
DTSTART:20220302T180000Z
DTEND:20220302T190000Z
X-MICROSOFT-CDO-ALLDAYEVENT:FALSE
SUMMARY:Working on Wellness: Lunchtime COVID Fitness for Busy Businesspeople
DESCRIPTION:These days\, as we attempt to juggle work life and home life under the stress of an ongoing global pandemic\, it is easy to put ourselves last. But if we have learned anything from the past 22 months\, it is that positivity\, wellness\, and health (mental\, physical\, emotional) are our most important commodity. You can prioritize your well-being and succeed as an entrepreneur   and\, in fact\, personal wellness and business wellness are hand in glove! CWE Central MA is therefore excited to partner with award-winning fitness and nutritional coach\, Melody Schoenfeld\, in this weekly series designed especially for busy businesspeople. Each week\, we will alternate between a strength training workout and a flexibility/mobility workout\, with an educational COVID business recovery component always included. These sessions offer a welcoming space and a judgment-free zone for entrepreneurs to destress\, no matter where they are on the business and physical fitness spectrum. Come to one or come to all!\n\nIn this week's strength training session\, we will focus on glutes. Your gluteals assist in forward propulsion during running by creating explosive hip propulsion and are essential to acceleration\, jumping\, and heavy lifting. CWE-Central MA Project Manager for COVID Business Recovery\, Dawn LaRochelle\, will spend the first thirty minutes sharing tips and tricks to accelerate your business\, jump through hoops\, and get the heavy lifting done during the ongoing pandemic. Melody will then tie these practices in with a thirty-minute glutes workout that you can replicate on your own at home with minimal equipment. Please come to the session with a bottle of water or your favorite beverage for proper hydration. A yoga mat and stretch bands are helpful but not required   Melody can work with you where you are!
X-ALT-DESC;FMTTYPE=text/html:<p>These days\, as we attempt to juggle work life and home life under the stress of an ongoing global pandemic\, it is easy to put ourselves last. But if we have learned anything from the past 22 months\, it is that positivity\, wellness\, and health (mental\, physical\, emotional) are our most important commodity. You&nbsp\;<em><strong>can</strong></em>&nbsp\;prioritize your well-being and succeed as an entrepreneur &ndash\; and\, in fact\, personal wellness and business wellness are hand in glove! CWE Central MA is therefore excited to partner with award-winning fitness and nutritional coach\, Melody Schoenfeld\, in this weekly series designed especially for busy businesspeople. Each week\, we will alternate between a strength training workout and a flexibility/mobility workout\, with an educational COVID business recovery component always included. These sessions offer a welcoming space and a judgment-free zone for entrepreneurs to destress\, no matter where they are on the business and physical fitness spectrum. Come to one or come to all!</p>\n\n<p>In this week&rsquo\;s strength training session\, we will focus on&nbsp\;<em><strong>glutes.</strong></em>&nbsp\;Your gluteals assist in forward propulsion during running by creating explosive hip propulsion and are essential to acceleration\, jumping\, and heavy lifting. CWE-Central MA Project Manager for COVID Business Recovery\, Dawn LaRochelle\, will spend the first thirty minutes sharing tips and tricks to accelerate your business\, jump through hoops\, and get the heavy lifting done during the ongoing pandemic. Melody will then tie these practices in with a thirty-minute glutes workout that you can replicate on your own at home with minimal equipment. Please come to the session with a bottle of water or your favorite beverage for proper hydration. A yoga mat and stretch bands are helpful but not required &ndash\; Melody can work with you where you are!</p>\n
LOCATION:Zoom
UID:e.2083.13819
SEQUENCE:3
DTSTAMP:20260422T022042Z
URL:https://business.cmschamber.org/events/details/working-on-wellness-lunchtime-covid-fitness-for-busy-businesspeople-03-02-2022-13819
END:VEVENT

END:VCALENDAR
