BEGIN:VCALENDAR
VERSION:2.0
PRODID:-//ChamberMaster//Event Calendar 2.0//EN
METHOD:PUBLISH
X-PUBLISHED-TTL:P3D
REFRESH-INTERVAL:P3D
CALSCALE:GREGORIAN
BEGIN:VEVENT
DTSTART:20191108T150000Z
DTEND:20191108T170000Z
X-MICROSOFT-CDO-ALLDAYEVENT:FALSE
SUMMARY:Working with a Bank
DESCRIPTION:If you are planning to start a business or are in the early stages of launching one\, then this workshop is for you. \n\n\n\nIn this workshop\, you will learn to:\n\n\n	Identify the banking services commonly available to a small business\, including:\n	Explain how these banking services work.\n	Identify the advantages and disadvantages of each of the banking services.\n	Determine if a bank is FDIC-insured.\n	Explain how small business owners decide which banking services are best for their businesses.
X-ALT-DESC;FMTTYPE=text/html:<p>If you are planning to start a business or are in the early stages of launching one\, then this workshop is for you.&nbsp\;<br />\n<br />\nIn this workshop\, you will learn to:</p>\n\n<ul>\n	<li>Identify the banking services commonly available to a small business\, including:</li>\n	<li>Explain how these banking services work.</li>\n	<li>Identify the advantages and disadvantages of each of the banking services.</li>\n	<li>Determine if a bank is FDIC-insured.</li>\n	<li>Explain how small business owners decide which banking services are best for their businesses.</li>\n</ul>\n
LOCATION:CWE Central MA 69 Milk St.\, Suite 217 Westborough\, MA 01581
UID:e.2083.10362
SEQUENCE:3
DTSTAMP:20260423T193339Z
URL:https://business.cmschamber.org/events/details/working-with-a-bank-10362
END:VEVENT

END:VCALENDAR
