BEGIN:VCALENDAR
VERSION:2.0
PRODID:-//ChamberMaster//Event Calendar 2.0//EN
METHOD:PUBLISH
X-PUBLISHED-TTL:P3D
REFRESH-INTERVAL:P3D
CALSCALE:GREGORIAN
BEGIN:VEVENT
DTSTART:20210330T170000Z
DTEND:20210330T193000Z
X-MICROSOFT-CDO-ALLDAYEVENT:FALSE
SUMMARY:Woven Bracelet and Necklace Pendant
DESCRIPTION:Woven Bracelet and Necklace Pendant This program will be held indoors in one of our well-ventilated classrooms. Group size will not exceed current state restrictions. Tuesday\, March 30\, 2021 1:00-3:30 PM Instructor: Suzanne Hauerstein Max Participants: 10 Using a simple loom learn how to weave a bracelet with button closure and a necklace pendant we will add to a chain. All material is included. Suzanne Hauerstein is a professional teaching artist and the Coordinator of Volunteer & Intern Services at Tower Hill. She has over 25 years of experience designing and facilitating art-based programs for informal learning environments. Suzanne is committed to creating programs that are accessible\, positive\, and enjoyable learning experiences for students of all ages and abilities. Single class scheduled on 3/30/2021 at 1:00PM
X-ALT-DESC;FMTTYPE=text/html:Woven Bracelet and Necklace Pendant This program will be held indoors in one of our well-ventilated classrooms. Group size will not exceed current state restrictions. Tuesday\, March 30\, 2021 1:00-3:30 PM Instructor: Suzanne Hauerstein Max Participants: 10 Using a simple loom learn how to weave a bracelet with button closure and a necklace pendant we will add to a chain. All material is included. Suzanne Hauerstein is a professional teaching artist and the Coordinator of Volunteer &amp\; Intern Services at Tower Hill. She has over 25 years of experience designing and facilitating art-based programs for informal learning environments. Suzanne is committed to creating programs that are accessible\, positive\, and enjoyable learning experiences for students of all ages and abilities. Single class scheduled on 3/30/2021 at 1:00PM
LOCATION:Tower Hill Botanic Garden 11 French Drive Boylston
UID:e.2083.12715
SEQUENCE:3
DTSTAMP:20260422T192619Z
URL:https://business.cmschamber.org/events/details/woven-bracelet-and-necklace-pendant-12715
END:VEVENT

END:VCALENDAR
