BEGIN:VCALENDAR
VERSION:2.0
PRODID:-//ChamberMaster//Event Calendar 2.0//EN
METHOD:PUBLISH
X-PUBLISHED-TTL:P3D
REFRESH-INTERVAL:P3D
CALSCALE:GREGORIAN
BEGIN:VEVENT
DTSTART:20231010T150000Z
DTEND:20231010T180000Z
X-MICROSOFT-CDO-ALLDAYEVENT:FALSE
SUMMARY:WPI Job and Networking Fair
DESCRIPTION:Discover job opportunities at WPI: Various departments hiring for FT\, PT. and seasonal roles across campus. Free parking for attendees. \n\nWPI Job Fair & Networking Session - MassHire Central Workforce Development Board
X-ALT-DESC;FMTTYPE=text/html:Discover job opportunities at WPI: Various departments hiring for FT\, PT. and seasonal roles across campus. Free parking for attendees.&nbsp\;<br />\n<a href="https://masshirecentral.com/event/wpi-jobfair101023/">WPI Job Fair &amp\; Networking Session - MassHire Central Workforce Development Board</a><br />\n&nbsp\;
LOCATION:151 Salisbury Street\, Worcester\, MA
UID:e.2083.16667
SEQUENCE:3
DTSTAMP:20260420T190442Z
URL:https://business.cmschamber.org/events/details/wpi-job-and-networking-fair-16667
END:VEVENT

END:VCALENDAR
