BEGIN:VCALENDAR
VERSION:2.0
PRODID:-//ChamberMaster//Event Calendar 2.0//EN
METHOD:PUBLISH
X-PUBLISHED-TTL:P3D
REFRESH-INTERVAL:P3D
CALSCALE:GREGORIAN
BEGIN:VEVENT
DTSTART:20221015T160000Z
DTEND:20221015T180000Z
X-MICROSOFT-CDO-ALLDAYEVENT:FALSE
SUMMARY:WRCC Batting Practice
DESCRIPTION:The Chamber's private batting practice event. \n\n \n\nFood and non-alcoholic beverages will be provided by the team. The menu includes Popcorn\, Watermelon & Berries\, Cole Slaw\, Mac & Cheese\, Hot Dog Bar\, Burger Bar\, Brownies\, Water\, Tea\, and Lemonade.\n\n \n\nWe encourage guests to bring their own gloves and equipment\, but we will have bats available for guests to use.
X-ALT-DESC;FMTTYPE=text/html:The Chamber&rsquo\;s private batting practice event.&nbsp\;<br />\n&nbsp\;<br />\nFood and non-alcoholic beverages will be provided by the team. The menu includes Popcorn\, Watermelon &amp\; Berries\, Cole Slaw\, Mac &amp\; Cheese\, Hot Dog Bar\, Burger Bar\, Brownies\, Water\, Tea\, and Lemonade.<br />\n&nbsp\;<br />\nWe encourage guests to bring their own gloves and equipment\, but we will have bats available for guests to use.<br />\n&nbsp\;<br />\n&nbsp\;
LOCATION:Gates for your event will open 15 minutes prior to the start. Guests should enter through Gate D. Your guests will be required to sign a waiver upon entrance into the event.
UID:e.2083.14708
SEQUENCE:3
DTSTAMP:20260421T142148Z
URL:https://business.cmschamber.org/events/details/wrcc-batting-practice-14708
END:VEVENT

END:VCALENDAR
