BEGIN:VCALENDAR
VERSION:2.0
PRODID:-//ChamberMaster//Event Calendar 2.0//EN
METHOD:PUBLISH
X-PUBLISHED-TTL:P3D
REFRESH-INTERVAL:P3D
CALSCALE:GREGORIAN
BEGIN:VEVENT
DTSTART:20240317T150000Z
DTEND:20240317T183000Z
X-MICROSOFT-CDO-ALLDAYEVENT:FALSE
SUMMARY:X-Golf St. Paddy's Regional Golf Scramble
DESCRIPTION:The St. Patty's Tournament is part of the X-Cup series Nationally. We are holding a special day for the tournament at X-Golf Worcester on Sunday March 17th at 11:00AM where you will also compete against other stores in the Northeast. Prizes will include a $1000 Hole-in-one payout as well as a gift card for Closest-to-the-pin. Lunch will be included. \n\n\n\nThe winning team of the Regional event gets a Stay & Play package at the Crumpin-Fox Golf Club in Bernardston\, MA! You will also be competing Nationally for a chance at a trip to Reunion Resort as well as the X-Cup Grand Prize which is a trip to Pinehurst Resort which is the home of the 2024 US Open! \n\n\n\nThis is a team scramble event for 2-4 players. All players must have downloaded the X-Golf App and have created a login prior to tournament time. You must register at the counter with your players names\, emails and team name. Teams may enter multiple times for the National event. The course will be Georgia Country Club. Men play from the blue tees\, Seniors (65+) play from the whites & Ladies play from the reds. Age 21+ only. Tournament is open to anyone other than X-Golf employees.\n\n\n\nGet info & sign up here:  https://bit.ly/49L0nGc
X-ALT-DESC;FMTTYPE=text/html:The St. Patty&#39\;s Tournament is part of the X-Cup series Nationally. We are holding a special day for the tournament at X-Golf Worcester on Sunday March 17th at 11:00AM where you will also compete against other stores in the Northeast. Prizes will include a $1000 Hole-in-one payout as well as a gift card for Closest-to-the-pin. Lunch will be included.&nbsp\;<br />\n<br />\nThe winning team of the Regional event gets a Stay &amp\; Play package at the Crumpin-Fox Golf Club in Bernardston\, MA! You will also be competing Nationally for a chance at a trip to Reunion Resort as well as the X-Cup Grand Prize which is a trip to Pinehurst Resort which is the home of the 2024 US Open!&nbsp\;<br />\n<br />\nThis is a team scramble event for 2-4 players. All players must have downloaded the X-Golf App and have created a login prior to tournament time. You must register at the counter with your players names\, emails and team name. Teams may enter multiple times for the National event. The course will be Georgia Country Club. Men play from the blue tees\, Seniors (65+) play from the whites &amp\; Ladies play from the reds. Age 21+ only. Tournament is open to anyone other than X-Golf employees.<br />\n<br />\nGet info &amp\; sign up here:&nbsp\;&nbsp\;<span style="background-color:rgb(255\, 255\, 255)\; color:rgb(46\, 48\, 48)\; font-family:open sans\,sans-serif\; font-size:13.3333px">https://bit.ly/49L0nGc</span>
LOCATION:X-Golf Worcester 287 Grove St. Worcester\, MA 01605
UID:e.2083.17317
SEQUENCE:3
DTSTAMP:20260420T085654Z
URL:https://business.cmschamber.org/events/details/x-golf-st-paddy-s-regional-golf-scramble-03-17-2024-17317
END:VEVENT

END:VCALENDAR
