BEGIN:VCALENDAR
VERSION:2.0
PRODID:-//ChamberMaster//Event Calendar 2.0//EN
METHOD:PUBLISH
X-PUBLISHED-TTL:P3D
REFRESH-INTERVAL:P3D
CALSCALE:GREGORIAN
BEGIN:VEVENT
DTSTART:20210304T170000Z
DTEND:20210304T180000Z
X-MICROSOFT-CDO-ALLDAYEVENT:FALSE
SUMMARY:You’ve Got This! COVID-19 Business Recovery Virtual Panel
DESCRIPTION:You are invited!\n\nThe Center for Women and Enterprise and the Small Business Administration of Massachusetts invite you to a COVID-19 Business Recovery virtual panel.\n\nJoin Dawn LaRochelle and Beth Ann Dahan from CWE and Lisa Welch from the SBA along with several women entrepreneurs\, who will share how they have persisted in keeping their doors open during COVID.\n\nLearn about the innovative methods they have used and how they plan to thrive into the future!\n\n\n\nClick Here to Register
X-ALT-DESC;FMTTYPE=text/html:<p style="text-align:left">You are invited!</p>\n\n<p style="text-align:left">The Center for Women and Enterprise and the Small Business Administration of Massachusetts invite you to a COVID-19 Business Recovery virtual panel.</p>\n\n<p style="text-align:left">Join Dawn LaRochelle and Beth Ann Dahan from CWE and Lisa Welch from the SBA along with several women entrepreneurs\, who will share how they have persisted in keeping their doors open during COVID.</p>\n\n<p style="text-align:left">Learn about the innovative methods they have used and how they plan to thrive into the future!<br />\n<br />\n<a href="https://cwewbc.ecenterdirect.com/events/976708">Click Here to Register</a></p>\n
LOCATION:Online Webinar
UID:e.2083.12705
SEQUENCE:3
DTSTAMP:20260422T175943Z
URL:https://business.cmschamber.org/events/details/you-ve-got-this-covid-19-business-recovery-virtual-panel-12705
END:VEVENT

END:VCALENDAR
