BEGIN:VCALENDAR
VERSION:2.0
PRODID:-//ChamberMaster//Event Calendar 2.0//EN
METHOD:PUBLISH
X-PUBLISHED-TTL:P3D
REFRESH-INTERVAL:P3D
CALSCALE:GREGORIAN
BEGIN:VEVENT
DTSTART:20211222T170000Z
DTEND:20211222T180000Z
X-MICROSOFT-CDO-ALLDAYEVENT:FALSE
SUMMARY:Your 2022 Business Plan DONE In One Hour\, On One Page
DESCRIPTION:YOUR 2022 BUSINESS PLAN DONE IN 1 HOUR\, ON ONE PAGE\n\n\n\nDo you want your business to grow in 2022? \n\nDo you want more money & more time in 2022 once your biz starts to kick butt? \n\n \n\nIf you have followed my work for any period of time\, you will know that I am obsessed with dreaming big\, setting goals\, and crushing them (I even wrote a book about it  you can download it free from my website).  \n\n \n\nFACT: A business plan is nothing more than a goal.   \n\n \n\nIt is a goal that is wrapped in a package called a "business plan" to make it sound scary\, intimidating\, and overwhelming.    \n\n \n\nAnd\, when I saw the staggering statistic that 80% of entrepreneurs don't even have a business plan\, my problem solving\, engineering\, geek mind took over and I had to ask the question: Why?   \n\n \n\nSo\, Mike\, do I really need a business plan? \n\n \n\nThe simple answer is no (if you are ok with being average\, comfortable with flat or dropping sales\, enjoy playing the trial-and-error game of marketing mistakes\, are cool with not having a clue how to manage cashflow\, aimlessly hope your product or service will sell millions because your mom likes it\, or enjoy getting crushed by day-to-day firefighting). \n\n \n\nYes\, that is sarcasm.?? \n\n \n\nEven if you have written a formal business plan (I have written and read many)\, just the thought of sitting down and trying to do it can strike fear into even the most seasoned entrepreneur.    \n\n \n\nAfter a bit of research\, I am now certain that most entrepreneurs don't attempt to write a business plan because they either don't think it is important or are filled with fear and intimidation. \n\n \n\nI am gonna simplify the entire process and remove the mystery in my last workshop of the year: How To Write Your 2022 Business Plan In One Hour\, On One Page. \n\n \n\nThe only objective with this workshop is to help you WIN in 2022.      \n\n \n\nThis is a must attend if: \n\n \n\no You are looking to increase sales and profits in 2022 \n\no You are hoping to have more personal time and money in 2022\n\no You are sick of flat revenues\n\no You are unclear on your marketing and sales strategies\n\no You are looking to add members to your team and inspire them with your dream\n\no You are looking to add new products or services\n\no Simply want to win and share more of what you do with the world \n\n \n\nI will be going live on ZOOM Wednesday\, Dec 22 @ 12p NOON EST. I'll also stick around and answer any and all questions that you have about your business and your 2022 plan.    \n\n \n\nI hope to see you there! \n\n \n\nClick here to register for the live event (you get an amazing give away) or to get the recording: How To Write Your 2022 Business Plan In One Hour\, On One Page.
X-ALT-DESC;FMTTYPE=text/html:<div>YOUR 2022 BUSINESS PLAN DONE IN 1 HOUR\, ON ONE PAGE<br />\n<br />\nDo you want your business to grow in 2022?&nbsp\;</div>\n\n<div>Do you want more money &amp\; more time in 2022 once your biz starts to kick butt?&nbsp\;</div>\n\n<div>&nbsp\;</div>\n\n<div>If you have followed my work for any period of time\, you will know that I am obsessed with dreaming big\, setting goals\, and crushing them (I even wrote a book about it&mdash\; you can download it free from my website).&nbsp\;&nbsp\;</div>\n\n<div>&nbsp\;</div>\n\n<div>FACT: A business plan is nothing more than a goal.&nbsp\; &nbsp\;<br />\n&nbsp\;</div>\n\n<div>It is a goal that is wrapped in a package called a &ldquo\;business plan&rdquo\; to make it sound scary\, intimidating\, and overwhelming.&nbsp\; &nbsp\;&nbsp\;<br />\n&nbsp\;</div>\n\n<div>And\, when I saw the staggering statistic that 80% of entrepreneurs don&#39\;t even have a business plan\, my problem solving\, engineering\, geek mind took over and I had to ask the question: Why?&nbsp\; &nbsp\;</div>\n\n<div>&nbsp\;</div>\n\n<div>So\, Mike\, do I really need a business plan?&nbsp\;<br />\n&nbsp\;</div>\n\n<div>The simple answer is no (if you are ok with being average\, comfortable with flat or dropping sales\, enjoy playing the trial-and-error game of marketing mistakes\, are cool with not having a clue how to manage cashflow\, aimlessly hope your product or service will sell millions because your mom likes it\, or enjoy getting crushed by day-to-day firefighting).&nbsp\;<br />\n&nbsp\;</div>\n\n<div>Yes\, that is sarcasm.??&nbsp\;<br />\n&nbsp\;</div>\n\n<div>Even if you have written a formal business plan (I have written and read many)\, just the thought of sitting down and trying to do it can strike fear into even the most seasoned entrepreneur.&nbsp\; &nbsp\;&nbsp\;</div>\n\n<div>&nbsp\;</div>\n\n<div>After a bit of research\, I am now certain that most entrepreneurs don&rsquo\;t attempt to write a business plan because they either don&rsquo\;t think it is important or are filled with fear and intimidation.&nbsp\;</div>\n\n<div>&nbsp\;</div>\n\n<div>I am gonna simplify the entire process and remove the mystery in my last workshop of the year: How To Write Your 2022 Business Plan In One Hour\, On One Page.&nbsp\;<br />\n&nbsp\;</div>\n\n<div>The only objective with this workshop is to help you WIN in 2022.&nbsp\; &nbsp\; &nbsp\;&nbsp\;<br />\n&nbsp\;</div>\n\n<div>This is a must attend if:&nbsp\;</div>\n\n<div>&nbsp\;</div>\n\n<div>o You are looking to increase sales and profits in 2022&nbsp\;</div>\n\n<div>o You are hoping to have more personal time and money in 2022</div>\n\n<div>o You are sick of flat revenues</div>\n\n<div>o You are unclear on your marketing and sales strategies</div>\n\n<div>o You are looking to add members to your team and inspire them with your dream</div>\n\n<div>o You are looking to add new products or services</div>\n\n<div>o Simply want to win and share more of what you do with the world&nbsp\;<br />\n&nbsp\;</div>\n\n<div>I will be going live on ZOOM Wednesday\, Dec 22 @ 12p NOON EST. I&rsquo\;ll also stick around and answer any and all questions that you have about your business and your 2022 plan.&nbsp\; &nbsp\;&nbsp\;<br />\n&nbsp\;</div>\n\n<div>I hope to see you there!&nbsp\;<br />\n&nbsp\;</div>\n\n<div>Click here to register for the live event (you get an amazing give away) or to get the recording: How To Write Your 2022 Business Plan In One Hour\, On One Page.</div>\n
LOCATION:ZOOM https://us02web.zoom.us/meeting/register/tZErc-ChqTkqHdEpgB3fEbzd8ZSX6b-S-3h6
UID:e.2083.13693
SEQUENCE:3
DTSTAMP:20260422T051627Z
URL:https://business.cmschamber.org/events/details/your-2022-business-plan-done-in-one-hour-on-one-page-13693
END:VEVENT

END:VCALENDAR
