BEGIN:VCALENDAR
VERSION:2.0
PRODID:-//ChamberMaster//Event Calendar 2.0//EN
METHOD:PUBLISH
X-PUBLISHED-TTL:P3D
REFRESH-INTERVAL:P3D
CALSCALE:GREGORIAN
BEGIN:VEVENT
DTSTART:20231212T200000Z
DTEND:20231212T213000Z
X-MICROSOFT-CDO-ALLDAYEVENT:FALSE
SUMMARY:Your 2024 Business Plan in One Hour One Page
DESCRIPTION:I've got something special for you: a free workshop to nail your business plan for 2024\, all in just one hour. We're doing it twice   pick between December 12th at 3 PM EST or December 14th at 12 PM EST live via Zoom\, whatever fits your schedule.
X-ALT-DESC;FMTTYPE=text/html:<span style="color:rgba(0\, 0\, 0\, 0.9)\; font-family:-apple-system\,system-ui\,blinkmacsystemfont\,segoe ui\,roboto\,helvetica neue\,fira sans\,ubuntu\,oxygen\,oxygen sans\,cantarell\,droid sans\,apple color emoji\,segoe ui emoji\,segoe ui emoji\,segoe ui symbol\,lucida grande\,helvetica\,arial\,sans-serif\; font-size:14px">I&#39\;ve got something special for you: a free workshop to nail your business plan for 2024\, all in just one hour. We&rsquo\;re doing it twice &ndash\; pick between December 12th at 3 PM EST or December 14th at 12 PM EST live via Zoom\, whatever fits your schedule.</span>
LOCATION:Live via Zoom
UID:e.2083.16880
SEQUENCE:3
DTSTAMP:20260420T134931Z
URL:https://business.cmschamber.org/events/details/your-2024-business-plan-in-one-hour-one-page-16880
END:VEVENT

END:VCALENDAR
