BEGIN:VCALENDAR
VERSION:2.0
PRODID:-//ChamberMaster//Event Calendar 2.0//EN
METHOD:PUBLISH
X-PUBLISHED-TTL:P3D
REFRESH-INTERVAL:P3D
CALSCALE:GREGORIAN
BEGIN:VEVENT
DTSTART:20210310T170000Z
DTEND:20210310T183000Z
X-MICROSOFT-CDO-ALLDAYEVENT:FALSE
SUMMARY:Your Brand is More Than Your Logo
DESCRIPTION:Vision Advertising's COO\, Julia Becker Collins\, will bring you insights into marketing and brand development straight from the front lines of marketing. Join us to learn:\n\n\n	How a brand can support and hyper-charge your business.\n	The importance of brand consistency across all platforms.\n	Understanding and using your brand to its capacity.\n	Notable recent brand moments from a company and marketing perspective.\n\nClick Here to Register.
X-ALT-DESC;FMTTYPE=text/html:<p style="text-align:left"><br />\nVision Advertising&rsquo\;s COO\, Julia Becker Collins\, will bring you insights into marketing and brand development straight from the front lines of marketing. Join us to learn:</p>\n\n<ul>\n	<li>How a brand can support and hyper-charge your business.</li>\n	<li>The importance of brand consistency across all platforms.</li>\n	<li>Understanding and using your brand to its capacity.</li>\n	<li>Notable recent brand moments from a company and marketing perspective.</li>\n</ul>\n<a href="https://cwewbc.ecenterdirect.com/events/976653">Click Here to Register.</a>
LOCATION:Online Webinar.
UID:e.2083.12707
SEQUENCE:3
DTSTAMP:20260422T175945Z
URL:https://business.cmschamber.org/events/details/your-brand-is-more-than-your-logo-12707
END:VEVENT

END:VCALENDAR
