BEGIN:VCALENDAR
VERSION:2.0
PRODID:-//ChamberMaster//Event Calendar 2.0//EN
METHOD:PUBLISH
X-PUBLISHED-TTL:P3D
REFRESH-INTERVAL:P3D
CALSCALE:GREGORIAN
BEGIN:VEVENT
DTSTART:20231017T150000Z
DTEND:20231017T160000Z
X-MICROSOFT-CDO-ALLDAYEVENT:FALSE
SUMMARY:Your Guide to Building a Professional Network
DESCRIPTION:Let's Learn Together!\n\n\n\nConnect to Succeed: Your Ultimate Guide to Building a Professional Network\n\n \n\nJoin us as Sandra Kearney from Human Power Solutions shares invaluable insights to help professionals\, new business owners\, and entrepreneurs at our upcoming 1-hour workshop! Sandy will provide an in-depth overview of the best practices for building a robust professional network using LinkedIn and other invaluable resources.\n\n \n\nWhat Will Be Covered\n\n \n\nLinkedIn Mastery:\n\n	Unlock the secrets of creating an impactful LinkedIn profile.\n	Learn how to engage with industry leaders and influencers effectively.\n	Discover how to leverage LinkedIn's unique tools for successful networking\n\nBeyond LinkedIn:\n\n\n	Explore other platforms and offline strategies that can help you expand your network and reach.\n\nInteractive Session:\n\n\n	Engage in real-time networking exercises designed to put your learnings into immediate practice.\n\nImmediate Takeaways:\n\n\n	Walk away with actionable tools and strategies that you can implement right away to start growing your network.\n\n \n\n-- Hosted by WorcLab and Venture Forum
X-ALT-DESC;FMTTYPE=text/html:<strong><span style="color:#425A8D"><span style="font-family:segoe ui\,sans-serif"><span style="font-size:18.0pt">Let&#39\;s Learn Together!</span></span></span></strong><br />\n<br />\n<em><span style="color:#374151"><span style="font-family:segoe ui\,sans-serif"><span style="font-size:12.0pt">Connect to Succeed: Your Ultimate Guide to Building a Professional Network</span></span></span></em><br />\n&nbsp\;<br />\n<span style="color:#374151"><span style="font-family:segoe ui\,sans-serif"><span style="font-size:12.0pt">Join us as </span></span></span><span style="color:#404040"><span style="font-family:roboto"><span style="font-size:13.5pt"><a href="https://r20.rs6.net/tn.jsp?f=001JM2kxqxAPoHfUlxolm2Ld-3gmyAEi4f_17tHxrscTQXKRXqyD0QH2ZIqT5i5meayMb10_eoZJ14A6xvf_mX50grWYT3TPYA04dybeA16QaX49PFNbd-U1rWlI_G89VqmeMSm92x9xp2CwVdvzws_Hgf0Fd_NHBZV5t7Jah6GeJA=&amp\;c=3K0Il5nvFDfqgt8vDtrHqRKXWlSUtgYM0EbpOChMgn4UkV6U44htpg==&amp\;ch=pckNk7vBPl6NP3IsVVFxw_L-A58iMXQJzU9WAagwuRiQDpAZxYqUMg=="><span style="color:#374151"><span style="font-family:segoe ui\,sans-serif"><span style="font-size:12.0pt">Sandra Kearney</span></span></span></a></span></span></span><span style="color:#374151"><span style="font-family:segoe ui\,sans-serif"><span style="font-size:12.0pt"> from </span></span></span><span style="color:#404040"><span style="font-family:roboto"><span style="font-size:13.5pt"><a href="https://r20.rs6.net/tn.jsp?f=001JM2kxqxAPoHfUlxolm2Ld-3gmyAEi4f_17tHxrscTQXKRXqyD0QH2ZIqT5i5meayJ32hDcG2N-1dv360wLRx6z1vdl4vilw_F6DvZCuH_J4PuJCi5I1WU9lY5AHcy2hLjps6vXFXaBr0dIK3KHiXxw==&amp\;c=3K0Il5nvFDfqgt8vDtrHqRKXWlSUtgYM0EbpOChMgn4UkV6U44htpg==&amp\;ch=pckNk7vBPl6NP3IsVVFxw_L-A58iMXQJzU9WAagwuRiQDpAZxYqUMg=="><span style="color:#374151"><span style="font-family:segoe ui\,sans-serif"><span style="font-size:12.0pt">Human Power Solutions</span></span></span></a></span></span></span><span style="color:#374151"><span style="font-family:segoe ui\,sans-serif"><span style="font-size:12.0pt"> shares invaluable insights to help professionals\, new business owners\, and entrepreneurs at our upcoming 1-hour workshop! Sandy will provide an in-depth overview of the best practices for building a robust professional network using LinkedIn and other invaluable resources.</span></span></span><br />\n&nbsp\;<br />\n<span style="color:#374151"><span style="font-family:segoe ui\,sans-serif"><span style="font-size:12.0pt">What Will Be Covered</span></span></span><br />\n&nbsp\;<br />\n<span style="color:#374151"><span style="font-family:segoe ui\,sans-serif"><span style="font-size:12.0pt">LinkedIn Mastery:</span></span></span>\n<ul>\n	<li><span style="color:#374151"><span style="font-family:segoe ui\,sans-serif"><span style="font-size:12.0pt">Unlock the secrets of creating an impactful LinkedIn profile.</span></span></span></li>\n	<li><span style="color:#374151"><span style="font-family:segoe ui\,sans-serif"><span style="font-size:12.0pt">Learn how to engage with industry leaders and influencers effectively.</span></span></span></li>\n	<li><span style="color:#374151"><span style="font-family:segoe ui\,sans-serif"><span style="font-size:12.0pt">Discover how to leverage LinkedIn&#39\;s unique tools for successful networking</span></span></span></li>\n</ul>\n<span style="color:#374151"><span style="font-family:segoe ui\,sans-serif"><span style="font-size:12.0pt">Beyond LinkedIn:</span></span></span>\n\n<ul>\n	<li><span style="color:#374151"><span style="font-family:segoe ui\,sans-serif"><span style="font-size:12.0pt">Explore other platforms and offline strategies that can help you expand your network and reach.</span></span></span></li>\n</ul>\n<span style="color:#374151"><span style="font-family:segoe ui\,sans-serif"><span style="font-size:12.0pt">Interactive Session:</span></span></span>\n\n<ul>\n	<li><span style="color:#374151"><span style="font-family:segoe ui\,sans-serif"><span style="font-size:12.0pt">Engage in real-time networking exercises designed to put your learnings into immediate practice.</span></span></span></li>\n</ul>\n<span style="color:#374151"><span style="font-family:segoe ui\,sans-serif"><span style="font-size:12.0pt">Immediate Takeaways:</span></span></span>\n\n<ul>\n	<li><span style="color:#374151"><span style="font-family:segoe ui\,sans-serif"><span style="font-size:12.0pt">Walk away with actionable tools and strategies that you can implement right away to start growing your network.</span></span></span></li>\n</ul>\n&nbsp\;<br />\n<em><span style="color:#374151"><span style="font-family:segoe ui\,sans-serif"><span style="font-size:12.0pt">-- Hosted by </span></span></span></em><span style="color:#404040"><span style="font-family:roboto"><span style="font-size:13.5pt"><a href="https://r20.rs6.net/tn.jsp?f=001JM2kxqxAPoHfUlxolm2Ld-3gmyAEi4f_17tHxrscTQXKRXqyD0QH2WHpdOwXwenAcEM6xa9A8Ljn8NPQRn_N4INu92Kg3EDBl1094vMbm_kyHVZL7oEij7vWMU0q-XFPkODHxFqb7Mw=&amp\;c=3K0Il5nvFDfqgt8vDtrHqRKXWlSUtgYM0EbpOChMgn4UkV6U44htpg==&amp\;ch=pckNk7vBPl6NP3IsVVFxw_L-A58iMXQJzU9WAagwuRiQDpAZxYqUMg=="><em><span style="color:#374151"><span style="font-family:segoe ui\,sans-serif"><span style="font-size:12.0pt">WorcLab</span></span></span></em></a></span></span></span><em><span style="color:#374151"><span style="font-family:segoe ui\,sans-serif"><span style="font-size:12.0pt"> and </span></span></span></em><span style="color:#404040"><span style="font-family:roboto"><span style="font-size:13.5pt"><a href="https://r20.rs6.net/tn.jsp?f=001JM2kxqxAPoHfUlxolm2Ld-3gmyAEi4f_17tHxrscTQXKRXqyD0QH2aLsa0Toqna2XHOyL1mzN3ZZGtzVAzpR447kR1vJJFP5pfn6SDojL0c_UTqKpDPWuP1y-oJtSbc3wWI6QUEnU7zrsFyAGKkue41BwafyrKXP&amp\;c=3K0Il5nvFDfqgt8vDtrHqRKXWlSUtgYM0EbpOChMgn4UkV6U44htpg==&amp\;ch=pckNk7vBPl6NP3IsVVFxw_L-A58iMXQJzU9WAagwuRiQDpAZxYqUMg=="><em><span style="color:#374151"><span style="font-family:segoe ui\,sans-serif"><span style="font-size:12.0pt">Venture Forum</span></span></span></em></a></span></span></span>
LOCATION:Virtual Registration Link: https://us06web.zoom.us/meeting/register/tZIudeyrrDkiGtAUIkWq-igZ1M8p4HLzTSM5#/registration
UID:e.2083.16448
SEQUENCE:3
DTSTAMP:20260420T190442Z
URL:https://business.cmschamber.org/events/details/your-guide-to-building-a-professional-network-16448
END:VEVENT

END:VCALENDAR
