BEGIN:VCALENDAR
VERSION:2.0
PRODID:-//ChamberMaster//Event Calendar 2.0//EN
METHOD:PUBLISH
X-PUBLISHED-TTL:P3D
REFRESH-INTERVAL:P3D
CALSCALE:GREGORIAN
BEGIN:VEVENT
DTSTART:20220827T130000Z
DTEND:20220827T190000Z
X-MICROSOFT-CDO-ALLDAYEVENT:FALSE
SUMMARY:ZAP 50 -Worcester Cleanup
DESCRIPTION:In September of 1972\, 10\,000 volunteers lined the banks of the Blackstone River to remove tons of trash\, appliances\, furniture\, cars\, and even a school bus from its banks. It became the largest one-day regional environmental clean-up in American history!\n\n\n\nOn the 50th anniversary of this event\, we are again planning a massive cleanup throughout the whole Blackstone Valley Watershed in an effort to match the 10\,000 volunteers that came out in 1972. \n\n\n\nThe Worcester Green Corps will be leading the Worcester portion of the river clean-up. Join us to contribute to the 50th anniversary of this amazing event!
X-ALT-DESC;FMTTYPE=text/html:In September of 1972\, 10\,000 volunteers lined the banks of the Blackstone River to remove tons of trash\, appliances\, furniture\, cars\, and even a school bus from its banks. It became the largest one-day regional environmental clean-up in American history!<br />\n<br />\nOn the 50th anniversary of this event\, we are again planning a massive cleanup throughout the whole Blackstone Valley Watershed in an effort to match the 10\,000 volunteers that came out in 1972.&nbsp\;<br />\n<br />\nThe Worcester Green Corps will be leading the Worcester portion of the river clean-up. Join us to contribute to the 50th anniversary of this amazing event!
LOCATION:We will be meeting at the Blackstone River Bikeway in Worcester. The site is located at 1265 Millbury Street\, Worcester\, MA. From there we will break off into smaller groups and tackle as much of the river as we possibly can!
UID:e.2083.14026
SEQUENCE:3
DTSTAMP:20260421T172458Z
URL:https://business.cmschamber.org/events/details/zap-50-worcester-cleanup-14026
END:VEVENT

END:VCALENDAR
